View In:
ArcGIS JavaScript
ArcGIS Online Map Viewer
ArcGIS Earth
ArcMap
View Footprint In:
ArcGIS Online Map Viewer
Service Description: intranet/PP_StoAgostinho_Condicionantes
Name: intranet/PP_StoAgostinho_Condicionantes
Description:
Single Fused Map Cache: false
Extent:
XMin: -57938.99160670717
YMin: 7925.795029922854
XMax: -57020.335524427486
YMax: 8755.701888914455
Spatial Reference: 3763
(3763)
Initial Extent:
XMin: -57938.99160670717
YMin: 7925.795029922854
XMax: -57020.335524427486
YMax: 8755.701888914455
Spatial Reference: 3763
(3763)
Full Extent:
XMin: -57938.99160670717
YMin: 7925.795029922854
XMax: -57020.335524427486
YMax: 8755.701888914455
Spatial Reference: 3763
(3763)
Pixel Size X: 0.1693687467329797
Pixel Size Y: 0.16940331883886517
Band Count: 3
Pixel Type: U8
RasterFunction Infos: {"rasterFunctionInfos": [{
"name": "None",
"description": "",
"help": ""
}]}
Mensuration Capabilities: Basic
Has Histograms: true
Has Colormap: false
Has Multi Dimensions : false
Rendering Rule:
Min Scale: 0
Max Scale: 0
Copyright Text:
Service Data Type: esriImageServiceDataTypeRGB
Min Values: 0, 0, 0
Max Values: 255, 255, 255
Mean Values: 190.55989787964674, 187.32415595169925, 189.70772852776528
Standard Deviation Values: 36.745276971556926, 45.63181179363226, 41.675924000190804
Object ID Field:
Fields:
None
Default Mosaic Method: Center
Allowed Mosaic Methods:
SortField:
SortValue: null
Mosaic Operator: First
Default Compression Quality: 75
Default Resampling Method: Bilinear
Max Record Count: null
Max Image Height: 4100
Max Image Width: 15000
Max Download Image Count: null
Max Mosaic Image Count: null
Allow Raster Function: true
Allow Copy: null
Allow Analysis: null
Allow Compute TiePoints: false
Supports Statistics: false
Supports Advanced Queries: false
Use StandardizedQueries: true
Raster Type Infos:
Name: Raster Dataset
Description: Supports all ArcGIS Raster Datasets
Help:
Has Raster Attribute Table: false
Edit Fields Info: null
Ownership Based AccessControl For Rasters: null
Child Resources:
Info
Histograms
Key Properties
Legend
Raster Function Infos
Supported Operations:
Export Image
Identify
Measure
Compute Histograms
Compute Statistics Histograms
Get Samples
Compute Class Statistics
Query Boundary
Compute Pixel Location
Compute Angles
Validate
Project