{
 "currentVersion": 10.91,
 "serviceDescription": "intranet/PP_StoAgostinho_Condicionantes",
 "name": "intranet/PP_StoAgostinho_Condicionantes",
 "description": "",
 "extent": {
  "xmin": -57938.99160670717,
  "ymin": 7925.795029922854,
  "xmax": -57020.335524427486,
  "ymax": 8755.701888914455,
  "spatialReference": {
   "wkid": 3763,
   "latestWkid": 3763
  }
 },
 "initialExtent": {
  "xmin": -57938.99160670717,
  "ymin": 7925.795029922854,
  "xmax": -57020.335524427486,
  "ymax": 8755.701888914455,
  "spatialReference": {
   "wkid": 3763,
   "latestWkid": 3763
  }
 },
 "fullExtent": {
  "xmin": -57938.99160670717,
  "ymin": 7925.795029922854,
  "xmax": -57020.335524427486,
  "ymax": 8755.701888914455,
  "spatialReference": {
   "wkid": 3763,
   "latestWkid": 3763
  }
 },
 "pixelSizeX": 0.1693687467329797,
 "pixelSizeY": 0.16940331883886517,
 "bandCount": 3,
 "pixelType": "U8",
 "minPixelSize": 0,
 "maxPixelSize": 0,
 "copyrightText": "",
 "serviceDataType": "esriImageServiceDataTypeRGB",
 "minValues": [
  0,
  0,
  0
 ],
 "maxValues": [
  255,
  255,
  255
 ],
 "meanValues": [
  190.55989787964674,
  187.32415595169925,
  189.70772852776528
 ],
 "stdvValues": [
  36.745276971556926,
  45.63181179363226,
  41.675924000190804
 ],
 "objectIdField": "",
 "fields": [],
 "capabilities": "Image,Metadata,Mensuration",
 "defaultMosaicMethod": "Center",
 "allowedMosaicMethods": "",
 "sortField": "",
 "sortValue": null,
 "sortAscending": true,
 "mosaicOperator": "First",
 "defaultCompressionQuality": 75,
 "defaultResamplingMethod": "Bilinear",
 "maxImageHeight": 4100,
 "maxImageWidth": 15000,
 "allowRasterFunction": true,
 "rasterFunctionInfos": [
  {
   "name": "None",
   "description": "",
   "help": ""
  }
 ],
 "rasterTypeInfos": [
  {
   "name": "Raster Dataset",
   "description": "Supports all ArcGIS Raster Datasets",
   "help": ""
  }
 ],
 "mensurationCapabilities": "Basic",
 "hasHistograms": true,
 "hasColormap": false,
 "hasRasterAttributeTable": false,
 "minScale": 0,
 "maxScale": 0,
 "exportTilesAllowed": false,
 "hasMultidimensions": false,
 "supportsStatistics": false,
 "supportsAdvancedQueries": false,
 "editFieldsInfo": null,
 "ownershipBasedAccessControlForRasters": null,
 "allowComputeTiePoints": false,
 "useStandardizedQueries": true,
 "advancedQueryCapabilities": {
  "useStandardizedQueries": true,
  "supportsStatistics": false,
  "supportsOrderBy": false,
  "supportsDistinct": false,
  "supportsPagination": false
 },
 "spatialReference": {
  "wkid": 3763,
  "latestWkid": 3763
 }
}
