View In:
ArcGIS JavaScript
ArcGIS Online Map Viewer
ArcGIS Earth
ArcMap
View Footprint In:
ArcGIS Online Map Viewer
Service Description: intranet/Ortofotomapa2018
Name: intranet/Ortofotomapa2018
Description:
Single Fused Map Cache: false
Extent:
XMin: -71948.08630643955
YMin: -3762.0255512272342
XMax: -41779.786305749294
YMax: 33579.87444962715
Spatial Reference: 3763
(3763)
Initial Extent:
XMin: -71948.08630643955
YMin: -3762.0255512272342
XMax: -41779.786305749294
YMax: 33579.87444962715
Spatial Reference: 3763
(3763)
Full Extent:
XMin: -71948.08630643955
YMin: -3762.0255512272342
XMax: -41779.786305749294
YMax: 33579.87444962715
Spatial Reference: 3763
(3763)
Pixel Size X: 0.30000000000686405
Pixel Size Y: 0.300000000006864
Band Count: 4
Pixel Type: U8
RasterFunction Infos: {"rasterFunctionInfos": [{
"name": "None",
"description": "",
"help": ""
}]}
Mensuration Capabilities: Basic
Has Histograms: true
Has Colormap: false
Has Multi Dimensions : false
Rendering Rule:
Min Scale: 0
Max Scale: 0
Copyright Text:
Service Data Type: esriImageServiceDataTypeGeneric
Min Values: 0, 0, 0, 0
Max Values: 255, 255, 255, 255
Mean Values: 74.49854147052363, 70.98692862854075, 73.10549557707687, 118.01773259873386
Standard Deviation Values: 47.01577974006701, 38.66958104269111, 32.47107754385314, 40.69721691020412
Object ID Field:
Fields:
None
Default Mosaic Method: Center
Allowed Mosaic Methods:
SortField:
SortValue: null
Mosaic Operator: First
Default Compression Quality: 75
Default Resampling Method: Bilinear
Max Record Count: null
Max Image Height: 4100
Max Image Width: 15000
Max Download Image Count: null
Max Mosaic Image Count: null
Allow Raster Function: true
Allow Copy: null
Allow Analysis: null
Allow Compute TiePoints: false
Supports Statistics: false
Supports Advanced Queries: false
Use StandardizedQueries: true
Raster Type Infos:
Name: Raster Dataset
Description: Supports all ArcGIS Raster Datasets
Help:
Has Raster Attribute Table: false
Edit Fields Info: null
Ownership Based AccessControl For Rasters: null
Child Resources:
Info
Histograms
Key Properties
Legend
Raster Function Infos
Supported Operations:
Export Image
Identify
Measure
Compute Histograms
Compute Statistics Histograms
Get Samples
Compute Class Statistics
Query Boundary
Compute Pixel Location
Compute Angles
Validate
Project