{
 "currentVersion": 10.91,
 "serviceDescription": "intranet/Ortofotomapa2018",
 "name": "intranet/Ortofotomapa2018",
 "description": "",
 "extent": {
  "xmin": -71948.08630643955,
  "ymin": -3762.0255512272342,
  "xmax": -41779.786305749294,
  "ymax": 33579.87444962715,
  "spatialReference": {
   "wkid": 3763,
   "latestWkid": 3763
  }
 },
 "initialExtent": {
  "xmin": -71948.08630643955,
  "ymin": -3762.0255512272342,
  "xmax": -41779.786305749294,
  "ymax": 33579.87444962715,
  "spatialReference": {
   "wkid": 3763,
   "latestWkid": 3763
  }
 },
 "fullExtent": {
  "xmin": -71948.08630643955,
  "ymin": -3762.0255512272342,
  "xmax": -41779.786305749294,
  "ymax": 33579.87444962715,
  "spatialReference": {
   "wkid": 3763,
   "latestWkid": 3763
  }
 },
 "pixelSizeX": 0.30000000000686405,
 "pixelSizeY": 0.300000000006864,
 "bandCount": 4,
 "pixelType": "U8",
 "minPixelSize": 0,
 "maxPixelSize": 0,
 "copyrightText": "",
 "serviceDataType": "esriImageServiceDataTypeGeneric",
 "minValues": [
  0,
  0,
  0,
  0
 ],
 "maxValues": [
  255,
  255,
  255,
  255
 ],
 "meanValues": [
  74.49854147052363,
  70.98692862854075,
  73.10549557707687,
  118.01773259873386
 ],
 "stdvValues": [
  47.01577974006701,
  38.66958104269111,
  32.47107754385314,
  40.69721691020412
 ],
 "objectIdField": "",
 "fields": [],
 "capabilities": "Image,Metadata,Mensuration",
 "defaultMosaicMethod": "Center",
 "allowedMosaicMethods": "",
 "sortField": "",
 "sortValue": null,
 "sortAscending": true,
 "mosaicOperator": "First",
 "defaultCompressionQuality": 75,
 "defaultResamplingMethod": "Bilinear",
 "maxImageHeight": 4100,
 "maxImageWidth": 15000,
 "allowRasterFunction": true,
 "rasterFunctionInfos": [
  {
   "name": "None",
   "description": "",
   "help": ""
  }
 ],
 "rasterTypeInfos": [
  {
   "name": "Raster Dataset",
   "description": "Supports all ArcGIS Raster Datasets",
   "help": ""
  }
 ],
 "mensurationCapabilities": "Basic",
 "hasHistograms": true,
 "hasColormap": false,
 "hasRasterAttributeTable": false,
 "minScale": 0,
 "maxScale": 0,
 "exportTilesAllowed": false,
 "hasMultidimensions": false,
 "supportsStatistics": false,
 "supportsAdvancedQueries": false,
 "editFieldsInfo": null,
 "ownershipBasedAccessControlForRasters": null,
 "allowComputeTiePoints": false,
 "useStandardizedQueries": true,
 "advancedQueryCapabilities": {
  "useStandardizedQueries": true,
  "supportsStatistics": false,
  "supportsOrderBy": false,
  "supportsDistinct": false,
  "supportsPagination": false
 },
 "spatialReference": {
  "wkid": 3763,
  "latestWkid": 3763
 }
}
