View In:
ArcGIS JavaScript
ArcGIS Online Map Viewer
ArcGIS Earth
ArcMap
View Footprint In:
ArcGIS Online Map Viewer
Service Description: intranet/Ortofotomapa2010
Name: intranet/Ortofotomapa2010
Description:
Single Fused Map Cache: false
Extent:
XMin: -72001.21457244563
YMin: -5001.009658566902
XMax: -39999.63855444563
YMax: 35000.2103504331
Spatial Reference: 3763
(3763)
Initial Extent:
XMin: -72001.21457244563
YMin: -5001.009658566902
XMax: -39999.63855444563
YMax: 35000.2103504331
Spatial Reference: 3763
(3763)
Full Extent:
XMin: -72001.21457244563
YMin: -5001.009658566902
XMax: -39999.63855444563
YMax: 35000.2103504331
Spatial Reference: 3763
(3763)
Pixel Size X: 0.5000090000000001
Pixel Size Y: 0.500009
Band Count: 3
Pixel Type: U8
RasterFunction Infos: {"rasterFunctionInfos": [{
"name": "None",
"description": "",
"help": ""
}]}
Mensuration Capabilities: Basic
Has Histograms: true
Has Colormap: false
Has Multi Dimensions : false
Rendering Rule:
Min Scale: 0
Max Scale: 0
Copyright Text:
Service Data Type: esriImageServiceDataTypeRGB
Min Values: 0, 0, 0
Max Values: 255, 255, 255
Mean Values: 97.92845558526366, 100.78562947455964, 108.84165953591533
Standard Deviation Values: 50.11999728391146, 43.06631552329895, 36.46399778211844
Object ID Field:
Fields:
None
Default Mosaic Method: Center
Allowed Mosaic Methods:
SortField:
SortValue: null
Mosaic Operator: First
Default Compression Quality: 75
Default Resampling Method: Bilinear
Max Record Count: null
Max Image Height: 4100
Max Image Width: 15000
Max Download Image Count: null
Max Mosaic Image Count: null
Allow Raster Function: true
Allow Copy: null
Allow Analysis: null
Allow Compute TiePoints: false
Supports Statistics: false
Supports Advanced Queries: false
Use StandardizedQueries: true
Raster Type Infos:
Name: Raster Dataset
Description: Supports all ArcGIS Raster Datasets
Help:
Has Raster Attribute Table: false
Edit Fields Info: null
Ownership Based AccessControl For Rasters: null
Child Resources:
Info
Histograms
Key Properties
Legend
Raster Function Infos
Supported Operations:
Export Image
Identify
Measure
Compute Histograms
Compute Statistics Histograms
Get Samples
Compute Class Statistics
Query Boundary
Compute Pixel Location
Compute Angles
Validate
Project