{
 "currentVersion": 10.91,
 "serviceDescription": "intranet/Ortofotomapa2010",
 "name": "intranet/Ortofotomapa2010",
 "description": "",
 "extent": {
  "xmin": -72001.21457244563,
  "ymin": -5001.009658566902,
  "xmax": -39999.63855444563,
  "ymax": 35000.2103504331,
  "spatialReference": {
   "wkid": 3763,
   "latestWkid": 3763
  }
 },
 "initialExtent": {
  "xmin": -72001.21457244563,
  "ymin": -5001.009658566902,
  "xmax": -39999.63855444563,
  "ymax": 35000.2103504331,
  "spatialReference": {
   "wkid": 3763,
   "latestWkid": 3763
  }
 },
 "fullExtent": {
  "xmin": -72001.21457244563,
  "ymin": -5001.009658566902,
  "xmax": -39999.63855444563,
  "ymax": 35000.2103504331,
  "spatialReference": {
   "wkid": 3763,
   "latestWkid": 3763
  }
 },
 "pixelSizeX": 0.5000090000000001,
 "pixelSizeY": 0.500009,
 "bandCount": 3,
 "pixelType": "U8",
 "minPixelSize": 0,
 "maxPixelSize": 0,
 "copyrightText": "",
 "serviceDataType": "esriImageServiceDataTypeRGB",
 "minValues": [
  0,
  0,
  0
 ],
 "maxValues": [
  255,
  255,
  255
 ],
 "meanValues": [
  97.92845558526366,
  100.78562947455964,
  108.84165953591533
 ],
 "stdvValues": [
  50.11999728391146,
  43.06631552329895,
  36.46399778211844
 ],
 "objectIdField": "",
 "fields": [],
 "capabilities": "Mensuration,Image,Metadata",
 "defaultMosaicMethod": "Center",
 "allowedMosaicMethods": "",
 "sortField": "",
 "sortValue": null,
 "sortAscending": true,
 "mosaicOperator": "First",
 "defaultCompressionQuality": 75,
 "defaultResamplingMethod": "Bilinear",
 "maxImageHeight": 4100,
 "maxImageWidth": 15000,
 "allowRasterFunction": true,
 "rasterFunctionInfos": [
  {
   "name": "None",
   "description": "",
   "help": ""
  }
 ],
 "rasterTypeInfos": [
  {
   "name": "Raster Dataset",
   "description": "Supports all ArcGIS Raster Datasets",
   "help": ""
  }
 ],
 "mensurationCapabilities": "Basic",
 "hasHistograms": true,
 "hasColormap": false,
 "hasRasterAttributeTable": false,
 "minScale": 0,
 "maxScale": 0,
 "exportTilesAllowed": false,
 "hasMultidimensions": false,
 "supportsStatistics": false,
 "supportsAdvancedQueries": false,
 "editFieldsInfo": null,
 "ownershipBasedAccessControlForRasters": null,
 "allowComputeTiePoints": false,
 "useStandardizedQueries": true,
 "advancedQueryCapabilities": {
  "useStandardizedQueries": true,
  "supportsStatistics": false,
  "supportsOrderBy": false,
  "supportsDistinct": false,
  "supportsPagination": false
 },
 "spatialReference": {
  "wkid": 3763,
  "latestWkid": 3763
 }
}
