View In:
ArcGIS JavaScript
ArcGIS Online Map Viewer
ArcGIS Earth
ArcMap
View Footprint In:
ArcGIS Online Map Viewer
Service Description: intranet/CartMilitar_2edicao
Name: intranet/CartMilitar_2edicao
Description:
Single Fused Map Cache: false
Extent:
XMin: -80000.40184892889
YMin: -10004.665002063717
XMax: -31992.901848928886
YMax: 40002.83499793628
Spatial Reference: 3763
(3763)
Initial Extent:
XMin: -80000.40184892889
YMin: -10004.665002063717
XMax: -31992.901848928886
YMax: 40002.83499793628
Spatial Reference: 3763
(3763)
Full Extent:
XMin: -80000.40184892889
YMin: -10004.665002063717
XMax: -31992.901848928886
YMax: 40002.83499793628
Spatial Reference: 3763
(3763)
Pixel Size X: 2.5
Pixel Size Y: 2.5
Band Count: 3
Pixel Type: U8
RasterFunction Infos: {"rasterFunctionInfos": [{
"name": "None",
"description": "",
"help": ""
}]}
Mensuration Capabilities: Basic
Has Histograms: true
Has Colormap: false
Has Multi Dimensions : false
Rendering Rule:
Min Scale: 0
Max Scale: 0
Copyright Text:
Service Data Type: esriImageServiceDataTypeRGB
Min Values: 0, 0, 0
Max Values: 255, 255, 255
Mean Values: 211.25633262819042, 218.09116252248484, 213.4314367411855
Standard Deviation Values: 56.3347319110318, 55.60080832821443, 61.343928550418056
Object ID Field:
Fields:
None
Default Mosaic Method: Center
Allowed Mosaic Methods:
SortField:
SortValue: null
Mosaic Operator: First
Default Compression Quality: 75
Default Resampling Method: Bilinear
Max Record Count: null
Max Image Height: 4100
Max Image Width: 15000
Max Download Image Count: null
Max Mosaic Image Count: null
Allow Raster Function: true
Allow Copy: null
Allow Analysis: null
Allow Compute TiePoints: false
Supports Statistics: false
Supports Advanced Queries: false
Use StandardizedQueries: true
Raster Type Infos:
Name: Raster Dataset
Description: Supports all ArcGIS Raster Datasets
Help:
Has Raster Attribute Table: false
Edit Fields Info: null
Ownership Based AccessControl For Rasters: null
Child Resources:
Info
Histograms
Key Properties
Legend
Raster Function Infos
Supported Operations:
Export Image
Identify
Measure
Compute Histograms
Compute Statistics Histograms
Get Samples
Compute Class Statistics
Query Boundary
Compute Pixel Location
Compute Angles
Validate
Project