{
 "currentVersion": 10.91,
 "serviceDescription": "intranet/CartMilitar_2edicao",
 "name": "intranet/CartMilitar_2edicao",
 "description": "",
 "extent": {
  "xmin": -80000.40184892889,
  "ymin": -10004.665002063717,
  "xmax": -31992.901848928886,
  "ymax": 40002.83499793628,
  "spatialReference": {
   "wkid": 3763,
   "latestWkid": 3763
  }
 },
 "initialExtent": {
  "xmin": -80000.40184892889,
  "ymin": -10004.665002063717,
  "xmax": -31992.901848928886,
  "ymax": 40002.83499793628,
  "spatialReference": {
   "wkid": 3763,
   "latestWkid": 3763
  }
 },
 "fullExtent": {
  "xmin": -80000.40184892889,
  "ymin": -10004.665002063717,
  "xmax": -31992.901848928886,
  "ymax": 40002.83499793628,
  "spatialReference": {
   "wkid": 3763,
   "latestWkid": 3763
  }
 },
 "pixelSizeX": 2.5,
 "pixelSizeY": 2.5,
 "bandCount": 3,
 "pixelType": "U8",
 "minPixelSize": 0,
 "maxPixelSize": 0,
 "copyrightText": "",
 "serviceDataType": "esriImageServiceDataTypeRGB",
 "minValues": [
  0,
  0,
  0
 ],
 "maxValues": [
  255,
  255,
  255
 ],
 "meanValues": [
  211.25633262819042,
  218.09116252248484,
  213.4314367411855
 ],
 "stdvValues": [
  56.3347319110318,
  55.60080832821443,
  61.343928550418056
 ],
 "objectIdField": "",
 "fields": [],
 "capabilities": "Mensuration,Image,Metadata",
 "defaultMosaicMethod": "Center",
 "allowedMosaicMethods": "",
 "sortField": "",
 "sortValue": null,
 "sortAscending": true,
 "mosaicOperator": "First",
 "defaultCompressionQuality": 75,
 "defaultResamplingMethod": "Bilinear",
 "maxImageHeight": 4100,
 "maxImageWidth": 15000,
 "allowRasterFunction": true,
 "rasterFunctionInfos": [
  {
   "name": "None",
   "description": "",
   "help": ""
  }
 ],
 "rasterTypeInfos": [
  {
   "name": "Raster Dataset",
   "description": "Supports all ArcGIS Raster Datasets",
   "help": ""
  }
 ],
 "mensurationCapabilities": "Basic",
 "hasHistograms": true,
 "hasColormap": false,
 "hasRasterAttributeTable": false,
 "minScale": 0,
 "maxScale": 0,
 "exportTilesAllowed": false,
 "hasMultidimensions": false,
 "supportsStatistics": false,
 "supportsAdvancedQueries": false,
 "editFieldsInfo": null,
 "ownershipBasedAccessControlForRasters": null,
 "allowComputeTiePoints": false,
 "useStandardizedQueries": true,
 "advancedQueryCapabilities": {
  "useStandardizedQueries": true,
  "supportsStatistics": false,
  "supportsOrderBy": false,
  "supportsDistinct": false,
  "supportsPagination": false
 },
 "spatialReference": {
  "wkid": 3763,
  "latestWkid": 3763
 }
}
