View In:
ArcGIS JavaScript
ArcGIS Online Map Viewer
ArcGIS Earth
ArcMap
View Footprint In:
ArcGIS Online Map Viewer
Service Description: intranet/Ortofotomapa2015_CidadeLeiria
Name: intranet/Ortofotomapa2015_CidadeLeiria
Description:
Single Fused Map Cache: false
Extent:
XMin: -62999.60529519377
YMin: 3998.740825466375
XMax: -52999.50529519377
YMax: 13998.840825466375
Spatial Reference: 3763
(3763)
Initial Extent:
XMin: -62999.60529519377
YMin: 3998.740825466375
XMax: -52999.50529519377
YMax: 13998.840825466375
Spatial Reference: 3763
(3763)
Full Extent:
XMin: -62999.60529519377
YMin: 3998.740825466375
XMax: -52999.50529519377
YMax: 13998.840825466375
Spatial Reference: 3763
(3763)
Pixel Size X: 0.09999999999999999
Pixel Size Y: 0.1
Band Count: 3
Pixel Type: U8
RasterFunction Infos: {"rasterFunctionInfos": [{
"name": "None",
"description": "",
"help": ""
}]}
Mensuration Capabilities: Basic
Has Histograms: true
Has Colormap: false
Has Multi Dimensions : false
Rendering Rule:
Min Scale: 0
Max Scale: 0
Copyright Text:
Service Data Type: esriImageServiceDataTypeRGB
Min Values: 0, 0, 0
Max Values: 255, 255, 255
Mean Values: 132.7687644857181, 129.7285113971537, 119.31269159391944
Standard Deviation Values: 91.39858118026787, 91.46493087115427, 97.53567692223959
Object ID Field:
Fields:
None
Default Mosaic Method: Center
Allowed Mosaic Methods:
SortField:
SortValue: null
Mosaic Operator: First
Default Compression Quality: 75
Default Resampling Method: Bilinear
Max Record Count: null
Max Image Height: 4100
Max Image Width: 15000
Max Download Image Count: null
Max Mosaic Image Count: null
Allow Raster Function: true
Allow Copy: null
Allow Analysis: null
Allow Compute TiePoints: false
Supports Statistics: false
Supports Advanced Queries: false
Use StandardizedQueries: true
Raster Type Infos:
Name: Raster Dataset
Description: Supports all ArcGIS Raster Datasets
Help:
Has Raster Attribute Table: false
Edit Fields Info: null
Ownership Based AccessControl For Rasters: null
Child Resources:
Info
Histograms
Key Properties
Legend
Raster Function Infos
Supported Operations:
Export Image
Identify
Measure
Compute Histograms
Compute Statistics Histograms
Get Samples
Compute Class Statistics
Query Boundary
Compute Pixel Location
Compute Angles
Validate
Project