View In:
ArcGIS JavaScript
ArcGIS Online Map Viewer
ArcGIS Earth
ArcMap
View Footprint In:
ArcGIS Online Map Viewer
Service Description: intranet/Ortofotomapa2015
Name: intranet/Ortofotomapa2015
Description:
Single Fused Map Cache: false
Extent:
XMin: -71999.53571716738
YMin: -5001.843470824948
XMax: -39999.03571716738
YMax: 34998.65652917505
Spatial Reference: 3763
(3763)
Initial Extent:
XMin: -71999.53571716738
YMin: -5001.843470824948
XMax: -39999.03571716738
YMax: 34998.65652917505
Spatial Reference: 3763
(3763)
Full Extent:
XMin: -71999.53571716738
YMin: -5001.843470824948
XMax: -39999.03571716738
YMax: 34998.65652917505
Spatial Reference: 3763
(3763)
Pixel Size X: 0.5
Pixel Size Y: 0.5
Band Count: 3
Pixel Type: U8
RasterFunction Infos: {"rasterFunctionInfos": [{
"name": "None",
"description": "",
"help": ""
}]}
Mensuration Capabilities: Basic
Has Histograms: true
Has Colormap: false
Has Multi Dimensions : false
Rendering Rule:
Min Scale: 0
Max Scale: 0
Copyright Text:
Service Data Type: esriImageServiceDataTypeRGB
Min Values: 0, 0, 0
Max Values: 255, 255, 255
Mean Values: 70.67450477136941, 69.96425451976135, 66.66286791310995
Standard Deviation Values: 48.95825888964358, 42.41843432609673, 38.950995141310784
Object ID Field:
Fields:
None
Default Mosaic Method: Center
Allowed Mosaic Methods:
SortField:
SortValue: null
Mosaic Operator: First
Default Compression Quality: 75
Default Resampling Method: Bilinear
Max Record Count: null
Max Image Height: 4100
Max Image Width: 15000
Max Download Image Count: null
Max Mosaic Image Count: null
Allow Raster Function: true
Allow Copy: null
Allow Analysis: null
Allow Compute TiePoints: false
Supports Statistics: false
Supports Advanced Queries: false
Use StandardizedQueries: true
Raster Type Infos:
Name: Raster Dataset
Description: Supports all ArcGIS Raster Datasets
Help:
Has Raster Attribute Table: false
Edit Fields Info: null
Ownership Based AccessControl For Rasters: null
Child Resources:
Info
Histograms
Key Properties
Legend
Raster Function Infos
Supported Operations:
Export Image
Identify
Measure
Compute Histograms
Compute Statistics Histograms
Get Samples
Compute Class Statistics
Query Boundary
Compute Pixel Location
Compute Angles
Validate
Project