View In:
ArcGIS JavaScript
ArcGIS Online Map Viewer
ArcGIS Earth
ArcMap
View Footprint In:
ArcGIS Online Map Viewer
Service Description: intranet/LAV_folha11_12
Name: intranet/LAV_folha11_12
Description:
Single Fused Map Cache: false
Extent:
XMin: -58702.11275555735
YMin: 14459.224861097606
XMax: -45736.11275555735
YMax: 28513.724861097606
Spatial Reference: 3763
(3763)
Initial Extent:
XMin: -58702.11275555735
YMin: 14459.224861097606
XMax: -45736.11275555735
YMax: 28513.724861097606
Spatial Reference: 3763
(3763)
Full Extent:
XMin: -58702.11275555735
YMin: 14459.224861097606
XMax: -45736.11275555735
YMax: 28513.724861097606
Spatial Reference: 3763
(3763)
Pixel Size X: 0.5
Pixel Size Y: 0.5
Band Count: 3
Pixel Type: U8
RasterFunction Infos: {"rasterFunctionInfos": [{
"name": "None",
"description": "",
"help": ""
}]}
Mensuration Capabilities: Basic
Has Histograms: true
Has Colormap: false
Has Multi Dimensions : false
Rendering Rule:
Min Scale: 0
Max Scale: 0
Copyright Text:
Service Data Type: esriImageServiceDataTypeRGB
Min Values: 0, 0, 0
Max Values: 255, 255, 255
Mean Values: 32.714096642866004, 31.08921144312241, 31.491134154564023
Standard Deviation Values: 53.420145417625626, 49.47699708130389, 48.76387946745143
Object ID Field:
Fields:
None
Default Mosaic Method: Center
Allowed Mosaic Methods:
SortField:
SortValue: null
Mosaic Operator: First
Default Compression Quality: 75
Default Resampling Method: Bilinear
Max Record Count: null
Max Image Height: 4100
Max Image Width: 15000
Max Download Image Count: null
Max Mosaic Image Count: null
Allow Raster Function: true
Allow Copy: null
Allow Analysis: null
Allow Compute TiePoints: false
Supports Statistics: false
Supports Advanced Queries: false
Use StandardizedQueries: true
Raster Type Infos:
Name: Raster Dataset
Description: Supports all ArcGIS Raster Datasets
Help:
Has Raster Attribute Table: false
Edit Fields Info: null
Ownership Based AccessControl For Rasters: null
Child Resources:
Info
Histograms
Key Properties
Legend
Raster Function Infos
Supported Operations:
Export Image
Identify
Measure
Compute Histograms
Compute Statistics Histograms
Get Samples
Compute Class Statistics
Query Boundary
Compute Pixel Location
Compute Angles
Validate
Project