View In:
ArcGIS JavaScript
ArcGIS Online Map Viewer
ArcGIS Earth
ArcMap
View Footprint In:
ArcGIS Online Map Viewer
Service Description: intranet/LAV_folha10_12
Name: intranet/LAV_folha10_12
Description:
Single Fused Map Cache: false
Extent:
XMin: -65986.02850692798
YMin: 3477.942169502785
XMax: -54346.890976263385
YMax: 18319.94319784878
Spatial Reference: 3763
(3763)
Initial Extent:
XMin: -65986.02850692798
YMin: 3477.942169502785
XMax: -54346.890976263385
YMax: 18319.94319784878
Spatial Reference: 3763
(3763)
Full Extent:
XMin: -65986.02850692798
YMin: 3477.942169502785
XMax: -54346.890976263385
YMax: 18319.94319784878
Spatial Reference: 3763
(3763)
Pixel Size X: 0.499984429342523
Pixel Size Y: 0.4999831911182751
Band Count: 3
Pixel Type: U8
RasterFunction Infos: {"rasterFunctionInfos": [{
"name": "None",
"description": "",
"help": ""
}]}
Mensuration Capabilities: Basic
Has Histograms: true
Has Colormap: false
Has Multi Dimensions : false
Rendering Rule:
Min Scale: 0
Max Scale: 0
Copyright Text:
Service Data Type: esriImageServiceDataTypeRGB
Min Values: 0, 0, 0
Max Values: 255, 255, 255
Mean Values: 35.34187890906554, 33.48549222859035, 33.83185682436174
Standard Deviation Values: 56.36207404107695, 52.40024694274174, 51.45494249613592
Object ID Field:
Fields:
None
Default Mosaic Method: Center
Allowed Mosaic Methods:
SortField:
SortValue: null
Mosaic Operator: First
Default Compression Quality: 75
Default Resampling Method: Bilinear
Max Record Count: null
Max Image Height: 4100
Max Image Width: 15000
Max Download Image Count: null
Max Mosaic Image Count: null
Allow Raster Function: true
Allow Copy: null
Allow Analysis: null
Allow Compute TiePoints: false
Supports Statistics: false
Supports Advanced Queries: false
Use StandardizedQueries: true
Raster Type Infos:
Name: Raster Dataset
Description: Supports all ArcGIS Raster Datasets
Help:
Has Raster Attribute Table: false
Edit Fields Info: null
Ownership Based AccessControl For Rasters: null
Child Resources:
Info
Histograms
Key Properties
Legend
Raster Function Infos
Supported Operations:
Export Image
Identify
Measure
Compute Histograms
Compute Statistics Histograms
Get Samples
Compute Class Statistics
Query Boundary
Compute Pixel Location
Compute Angles
Validate
Project