View In:
ArcGIS JavaScript
ArcGIS Online Map Viewer
ArcGIS Earth
ArcMap
View Footprint In:
ArcGIS Online Map Viewer
Service Description: intranet/Fotos1958_USAF
Name: intranet/Fotos1958_USAF
Description:
Single Fused Map Cache: false
Extent:
XMin: -71959.65958137077
YMin: -4807.438350553166
XMax: -41809.01494136989
YMax: 33988.532273089324
Spatial Reference: 3763
(3763)
Initial Extent:
XMin: -71959.65958137077
YMin: -4807.438350553166
XMax: -41809.01494136989
YMax: 33988.532273089324
Spatial Reference: 3763
(3763)
Full Extent:
XMin: -71959.65958137077
YMin: -4807.438350553166
XMax: -41809.01494136989
YMax: 33988.532273089324
Spatial Reference: 3763
(3763)
Pixel Size X: 0.5966880000000174
Pixel Size Y: 0.5966407883803286
Band Count: 1
Pixel Type: U16
RasterFunction Infos: {"rasterFunctionInfos": [{
"name": "None",
"description": "",
"help": ""
}]}
Mensuration Capabilities: Basic
Has Histograms: true
Has Colormap: true
Has Multi Dimensions : false
Rendering Rule:
Min Scale: 0
Max Scale: 0
Copyright Text:
Service Data Type: esriImageServiceDataTypeGeneric
Min Values: 0
Max Values: 255
Mean Values: 54.02253891357475
Standard Deviation Values: 34.86781106812175
Object ID Field:
Fields:
None
Default Mosaic Method: Center
Allowed Mosaic Methods:
SortField:
SortValue: null
Mosaic Operator: First
Default Compression Quality: 75
Default Resampling Method: Bilinear
Max Record Count: null
Max Image Height: 4100
Max Image Width: 15000
Max Download Image Count: null
Max Mosaic Image Count: null
Allow Raster Function: true
Allow Copy: null
Allow Analysis: null
Allow Compute TiePoints: false
Supports Statistics: false
Supports Advanced Queries: false
Use StandardizedQueries: true
Raster Type Infos:
Name: Raster Dataset
Description: Supports all ArcGIS Raster Datasets
Help:
Has Raster Attribute Table: false
Edit Fields Info: null
Ownership Based AccessControl For Rasters: null
Child Resources:
Info
Histograms
Key Properties
Color Map
Legend
Raster Function Infos
Supported Operations:
Export Image
Identify
Measure
Compute Histograms
Compute Statistics Histograms
Get Samples
Compute Class Statistics
Query Boundary
Compute Pixel Location
Compute Angles
Validate
Project