View In:
ArcGIS JavaScript
ArcGIS Online Map Viewer
ArcGIS Earth
ArcMap
View Footprint In:
ArcGIS Online Map Viewer
Service Description: intranet/Fotografias1947
Name: intranet/Fotografias1947
Description:
Single Fused Map Cache: false
Extent:
XMin: -72899.99316297466
YMin: -3065.043164385359
XMax: -41498.69315461902
YMax: 33799.05684542389
Spatial Reference: 3763
(3763)
Initial Extent:
XMin: -72899.99316297466
YMin: -3065.043164385359
XMax: -41498.69315461902
YMax: 33799.05684542389
Spatial Reference: 3763
(3763)
Full Extent:
XMin: -72899.99316297466
YMin: -3065.043164385359
XMax: -41498.69315461902
YMax: 33799.05684542389
Spatial Reference: 3763
(3763)
Pixel Size X: 0.7000000001862645
Pixel Size Y: 0.7000000001862645
Band Count: 1
Pixel Type: U8
RasterFunction Infos: {"rasterFunctionInfos": [{
"name": "None",
"description": "",
"help": ""
}]}
Mensuration Capabilities: Basic
Has Histograms: true
Has Colormap: false
Has Multi Dimensions : false
Rendering Rule:
Min Scale: 0
Max Scale: 0
Copyright Text:
Service Data Type: esriImageServiceDataTypeGeneric
Min Values: 0
Max Values: 255
Mean Values: 107.32741215216296
Standard Deviation Values: 70.88276345182311
Object ID Field:
Fields:
None
Default Mosaic Method: Center
Allowed Mosaic Methods:
SortField:
SortValue: null
Mosaic Operator: First
Default Compression Quality: 75
Default Resampling Method: Bilinear
Max Record Count: null
Max Image Height: 4100
Max Image Width: 15000
Max Download Image Count: null
Max Mosaic Image Count: null
Allow Raster Function: true
Allow Copy: null
Allow Analysis: null
Allow Compute TiePoints: false
Supports Statistics: false
Supports Advanced Queries: false
Use StandardizedQueries: true
Raster Type Infos:
Name: Raster Dataset
Description: Supports all ArcGIS Raster Datasets
Help:
Has Raster Attribute Table: true
Edit Fields Info: null
Ownership Based AccessControl For Rasters: null
Child Resources:
Info
Raster Attribute Table
Histograms
Key Properties
Legend
Raster Function Infos
Supported Operations:
Export Image
Identify
Measure
Compute Histograms
Compute Statistics Histograms
Get Samples
Compute Class Statistics
Query Boundary
Compute Pixel Location
Compute Angles
Validate
Project