View In:
ArcGIS JavaScript
ArcGIS Online Map Viewer
ArcGIS Earth
ArcMap
View Footprint In:
ArcGIS Online Map Viewer
Service Description: intranet/Cartografia1k_ZU_1966_dt73
Name: intranet/Cartografia1k_ZU_1966_dt73
Description:
Single Fused Map Cache: false
Extent:
XMin: -61415.85592588415
YMin: 5785.578290975099
XMax: -55111.805925884146
YMax: 12990.678290975098
Spatial Reference: 3763
(3763)
Initial Extent:
XMin: -61415.85592588415
YMin: 5785.578290975099
XMax: -55111.805925884146
YMax: 12990.678290975098
Spatial Reference: 3763
(3763)
Full Extent:
XMin: -61415.85592588415
YMin: 5785.578290975099
XMax: -55111.805925884146
YMax: 12990.678290975098
Spatial Reference: 3763
(3763)
Pixel Size X: 0.15000000000000008
Pixel Size Y: 0.15
Band Count: 3
Pixel Type: U16
RasterFunction Infos: {"rasterFunctionInfos": [{
"name": "None",
"description": "",
"help": ""
}]}
Mensuration Capabilities: Basic
Has Histograms: true
Has Colormap: false
Has Multi Dimensions : false
Rendering Rule:
Min Scale: 0
Max Scale: 0
Copyright Text:
Service Data Type: esriImageServiceDataTypeGeneric
Min Values: 0, 0, 0
Max Values: 255, 255, 255
Mean Values: 246.89386296845728, 244.58832524880992, 230.04386834443898
Standard Deviation Values: 27.7975542601165, 31.30975785334198, 34.36215473431322
Object ID Field:
Fields:
None
Default Mosaic Method: Center
Allowed Mosaic Methods:
SortField:
SortValue: null
Mosaic Operator: First
Default Compression Quality: 75
Default Resampling Method: Bilinear
Max Record Count: null
Max Image Height: 4100
Max Image Width: 15000
Max Download Image Count: null
Max Mosaic Image Count: null
Allow Raster Function: true
Allow Copy: null
Allow Analysis: null
Allow Compute TiePoints: false
Supports Statistics: false
Supports Advanced Queries: false
Use StandardizedQueries: true
Raster Type Infos:
Name: Raster Dataset
Description: Supports all ArcGIS Raster Datasets
Help:
Has Raster Attribute Table: false
Edit Fields Info: null
Ownership Based AccessControl For Rasters: null
Child Resources:
Info
Histograms
Key Properties
Legend
Raster Function Infos
Supported Operations:
Export Image
Identify
Measure
Compute Histograms
Compute Statistics Histograms
Get Samples
Compute Class Statistics
Query Boundary
Compute Pixel Location
Compute Angles
Validate
Project