View In:
ArcGIS JavaScript
ArcGIS Online Map Viewer
ArcGIS Earth
ArcMap
View Footprint In:
ArcGIS Online Map Viewer
Service Description: intranet/Cartografia1k_PP_1965_dt73
Name: intranet/Cartografia1k_PP_1965_dt73
Description:
Single Fused Map Cache: false
Extent:
XMin: -70695.7431977036
YMin: 26802.641873651708
XMax: -68898.7431977036
YMax: 29800.391873651708
Spatial Reference: 3763
(3763)
Initial Extent:
XMin: -70695.7431977036
YMin: 26802.641873651708
XMax: -68898.7431977036
YMax: 29800.391873651708
Spatial Reference: 3763
(3763)
Full Extent:
XMin: -70695.7431977036
YMin: 26802.641873651708
XMax: -68898.7431977036
YMax: 29800.391873651708
Spatial Reference: 3763
(3763)
Pixel Size X: 0.15
Pixel Size Y: 0.15
Band Count: 3
Pixel Type: U8
RasterFunction Infos: {"rasterFunctionInfos": [{
"name": "None",
"description": "",
"help": ""
}]}
Mensuration Capabilities: Basic
Has Histograms: true
Has Colormap: false
Has Multi Dimensions : false
Rendering Rule:
Min Scale: 0
Max Scale: 0
Copyright Text:
Service Data Type: esriImageServiceDataTypeRGB
Min Values: 0, 0, 0
Max Values: 255, 255, 255
Mean Values: 245.17499710706102, 245.08182073897243, 240.74560239623077
Standard Deviation Values: 34.81537492699453, 35.78484008023855, 36.02341514044954
Object ID Field:
Fields:
None
Default Mosaic Method: Center
Allowed Mosaic Methods:
SortField:
SortValue: null
Mosaic Operator: First
Default Compression Quality: 75
Default Resampling Method: Bilinear
Max Record Count: null
Max Image Height: 4100
Max Image Width: 15000
Max Download Image Count: null
Max Mosaic Image Count: null
Allow Raster Function: true
Allow Copy: null
Allow Analysis: null
Allow Compute TiePoints: false
Supports Statistics: false
Supports Advanced Queries: false
Use StandardizedQueries: true
Raster Type Infos:
Name: Raster Dataset
Description: Supports all ArcGIS Raster Datasets
Help:
Has Raster Attribute Table: false
Edit Fields Info: null
Ownership Based AccessControl For Rasters: null
Child Resources:
Info
Histograms
Key Properties
Legend
Raster Function Infos
Supported Operations:
Export Image
Identify
Measure
Compute Histograms
Compute Statistics Histograms
Get Samples
Compute Class Statistics
Query Boundary
Compute Pixel Location
Compute Angles
Validate
Project