View In:
ArcGIS JavaScript
ArcGIS Online Map Viewer
ArcGIS Earth
ArcMap
View Footprint In:
ArcGIS Online Map Viewer
Service Description: intranet/Cartografia1k_MR_1956_dt73
Name: intranet/Cartografia1k_MR_1956_dt73
Description:
Single Fused Map Cache: false
Extent:
XMin: -63696.78285972399
YMin: 19601.43405584183
XMax: -60998.732859724
YMax: 21400.68405584183
Spatial Reference: 3763
(3763)
Initial Extent:
XMin: -63696.78285972399
YMin: 19601.43405584183
XMax: -60998.732859724
YMax: 21400.68405584183
Spatial Reference: 3763
(3763)
Full Extent:
XMin: -63696.78285972399
YMin: 19601.43405584183
XMax: -60998.732859724
YMax: 21400.68405584183
Spatial Reference: 3763
(3763)
Pixel Size X: 0.14999999999999974
Pixel Size Y: 0.15
Band Count: 3
Pixel Type: U8
RasterFunction Infos: {"rasterFunctionInfos": [{
"name": "None",
"description": "",
"help": ""
}]}
Mensuration Capabilities: Basic
Has Histograms: true
Has Colormap: false
Has Multi Dimensions : false
Rendering Rule:
Min Scale: 0
Max Scale: 0
Copyright Text:
Service Data Type: esriImageServiceDataTypeRGB
Min Values: 0, 0, 0
Max Values: 255, 255, 255
Mean Values: 241.82308212408307, 241.31280957854204, 239.36959782536718
Standard Deviation Values: 47.88940016641124, 48.91639123977631, 48.98016660479545
Object ID Field:
Fields:
None
Default Mosaic Method: Center
Allowed Mosaic Methods:
SortField:
SortValue: null
Mosaic Operator: First
Default Compression Quality: 75
Default Resampling Method: Bilinear
Max Record Count: null
Max Image Height: 4100
Max Image Width: 15000
Max Download Image Count: null
Max Mosaic Image Count: null
Allow Raster Function: true
Allow Copy: null
Allow Analysis: null
Allow Compute TiePoints: false
Supports Statistics: false
Supports Advanced Queries: false
Use StandardizedQueries: true
Raster Type Infos:
Name: Raster Dataset
Description: Supports all ArcGIS Raster Datasets
Help:
Has Raster Attribute Table: false
Edit Fields Info: null
Ownership Based AccessControl For Rasters: null
Child Resources:
Info
Histograms
Key Properties
Legend
Raster Function Infos
Supported Operations:
Export Image
Identify
Measure
Compute Histograms
Compute Statistics Histograms
Get Samples
Compute Class Statistics
Query Boundary
Compute Pixel Location
Compute Angles
Validate
Project