View In:
ArcGIS JavaScript
ArcGIS Online Map Viewer
ArcGIS Earth
ArcMap
View Footprint In:
ArcGIS Online Map Viewer
Service Description: intranet/CartMilitar_3edicao
Name: intranet/CartMilitar_3edicao
Description:
Single Fused Map Cache: false
Extent:
XMin: -80000.78408456818
YMin: -10002.399342557488
XMax: -31995.78408456818
YMax: 40002.60065744251
Spatial Reference: 3763
(3763)
Initial Extent:
XMin: -80000.78408456818
YMin: -10002.399342557488
XMax: -31995.78408456818
YMax: 40002.60065744251
Spatial Reference: 3763
(3763)
Full Extent:
XMin: -80000.78408456818
YMin: -10002.399342557488
XMax: -31995.78408456818
YMax: 40002.60065744251
Spatial Reference: 3763
(3763)
Pixel Size X: 2.5
Pixel Size Y: 2.5
Band Count: 3
Pixel Type: U8
RasterFunction Infos: {"rasterFunctionInfos": [{
"name": "None",
"description": "",
"help": ""
}]}
Mensuration Capabilities: Basic
Has Histograms: true
Has Colormap: false
Has Multi Dimensions : false
Rendering Rule:
Min Scale: 0
Max Scale: 0
Copyright Text:
Service Data Type: esriImageServiceDataTypeRGB
Min Values: 0, 0, 0
Max Values: 255, 255, 255
Mean Values: 186.3908265751425, 199.3004280105816, 183.60032220183103
Standard Deviation Values: 50.65560973741472, 54.34242258464552, 58.93200493237124
Object ID Field:
Fields:
None
Default Mosaic Method: Center
Allowed Mosaic Methods:
SortField:
SortValue: null
Mosaic Operator: First
Default Compression Quality: 75
Default Resampling Method: Bilinear
Max Record Count: null
Max Image Height: 4100
Max Image Width: 15000
Max Download Image Count: null
Max Mosaic Image Count: null
Allow Raster Function: true
Allow Copy: null
Allow Analysis: null
Allow Compute TiePoints: false
Supports Statistics: false
Supports Advanced Queries: false
Use StandardizedQueries: true
Raster Type Infos:
Name: Raster Dataset
Description: Supports all ArcGIS Raster Datasets
Help:
Has Raster Attribute Table: false
Edit Fields Info: null
Ownership Based AccessControl For Rasters: null
Child Resources:
Info
Histograms
Key Properties
Legend
Raster Function Infos
Supported Operations:
Export Image
Identify
Measure
Compute Histograms
Compute Statistics Histograms
Get Samples
Compute Class Statistics
Query Boundary
Compute Pixel Location
Compute Angles
Validate
Project