View In:
ArcGIS JavaScript
ArcGIS Online Map Viewer
ArcGIS Earth
ArcMap
View Footprint In:
ArcGIS Online Map Viewer
Service Description: intranet/CartMilitar_1edicao
Name: intranet/CartMilitar_1edicao
Description:
Single Fused Map Cache: false
Extent:
XMin: -79999.3600703529
YMin: -10004.040758091098
XMax: -31996.860070352894
YMax: 40000.9592419089
Spatial Reference: 3763
(3763)
Initial Extent:
XMin: -79999.3600703529
YMin: -10004.040758091098
XMax: -31996.860070352894
YMax: 40000.9592419089
Spatial Reference: 3763
(3763)
Full Extent:
XMin: -79999.3600703529
YMin: -10004.040758091098
XMax: -31996.860070352894
YMax: 40000.9592419089
Spatial Reference: 3763
(3763)
Pixel Size X: 2.5
Pixel Size Y: 2.5
Band Count: 3
Pixel Type: U8
RasterFunction Infos: {"rasterFunctionInfos": [{
"name": "None",
"description": "",
"help": ""
}]}
Mensuration Capabilities: Basic
Has Histograms: true
Has Colormap: false
Has Multi Dimensions : false
Rendering Rule:
Min Scale: 0
Max Scale: 0
Copyright Text:
Service Data Type: esriImageServiceDataTypeRGB
Min Values: 7, 7, 6
Max Values: 254, 254, 254
Mean Values: 207.1285184929235, 205.04551219701267, 196.7413350011057
Standard Deviation Values: 57.92409763987353, 61.08414816645399, 67.07239712905329
Object ID Field:
Fields:
None
Default Mosaic Method: Center
Allowed Mosaic Methods:
SortField:
SortValue: null
Mosaic Operator: First
Default Compression Quality: 75
Default Resampling Method: Bilinear
Max Record Count: null
Max Image Height: 4100
Max Image Width: 15000
Max Download Image Count: null
Max Mosaic Image Count: null
Allow Raster Function: true
Allow Copy: null
Allow Analysis: null
Allow Compute TiePoints: false
Supports Statistics: false
Supports Advanced Queries: false
Use StandardizedQueries: true
Raster Type Infos:
Name: Raster Dataset
Description: Supports all ArcGIS Raster Datasets
Help:
Has Raster Attribute Table: false
Edit Fields Info: null
Ownership Based AccessControl For Rasters: null
Child Resources:
Info
Histograms
Key Properties
Legend
Raster Function Infos
Supported Operations:
Export Image
Identify
Measure
Compute Histograms
Compute Statistics Histograms
Get Samples
Compute Class Statistics
Query Boundary
Compute Pixel Location
Compute Angles
Validate
Project