{
 "currentVersion": 10.91,
 "serviceDescription": "intranet/Ortofotomapa2023",
 "name": "intranet/Ortofotomapa2023",
 "description": "",
 "extent": {
  "xmin": -71999.97291190922,
  "ymin": -5000.043630237403,
  "xmax": -39999.9729119087,
  "ymax": 34999.9563697651,
  "spatialReference": {
   "wkt": "PROJCS[\"ETRS_1989_Portugal_TM06\",GEOGCS[\"GCS_ETRS_1989\",DATUM[\"D_ETRS_1989\",SPHEROID[\"GRS_1980\",6378137.0,298.257222101]],PRIMEM[\"Greenwich\",0.0],UNIT[\"Degree\",0.0174532925199433]],PROJECTION[\"Transverse_Mercator\"],PARAMETER[\"false_easting\",0.0],PARAMETER[\"false_northing\",0.0],PARAMETER[\"central_meridian\",-8.133108333333448],PARAMETER[\"scale_factor\",1.0],PARAMETER[\"latitude_of_origin\",39.66825833333243],UNIT[\"Meter\",1.0]]"
  }
 },
 "initialExtent": {
  "xmin": -71999.97291190922,
  "ymin": -5000.043630237403,
  "xmax": -39999.9729119087,
  "ymax": 34999.9563697651,
  "spatialReference": {
   "wkt": "PROJCS[\"ETRS_1989_Portugal_TM06\",GEOGCS[\"GCS_ETRS_1989\",DATUM[\"D_ETRS_1989\",SPHEROID[\"GRS_1980\",6378137.0,298.257222101]],PRIMEM[\"Greenwich\",0.0],UNIT[\"Degree\",0.0174532925199433]],PROJECTION[\"Transverse_Mercator\"],PARAMETER[\"false_easting\",0.0],PARAMETER[\"false_northing\",0.0],PARAMETER[\"central_meridian\",-8.133108333333448],PARAMETER[\"scale_factor\",1.0],PARAMETER[\"latitude_of_origin\",39.66825833333243],UNIT[\"Meter\",1.0]]"
  }
 },
 "fullExtent": {
  "xmin": -71999.97291190922,
  "ymin": -5000.043630237403,
  "xmax": -39999.9729119087,
  "ymax": 34999.9563697651,
  "spatialReference": {
   "wkt": "PROJCS[\"ETRS_1989_Portugal_TM06\",GEOGCS[\"GCS_ETRS_1989\",DATUM[\"D_ETRS_1989\",SPHEROID[\"GRS_1980\",6378137.0,298.257222101]],PRIMEM[\"Greenwich\",0.0],UNIT[\"Degree\",0.0174532925199433]],PROJECTION[\"Transverse_Mercator\"],PARAMETER[\"false_easting\",0.0],PARAMETER[\"false_northing\",0.0],PARAMETER[\"central_meridian\",-8.133108333333448],PARAMETER[\"scale_factor\",1.0],PARAMETER[\"latitude_of_origin\",39.66825833333243],UNIT[\"Meter\",1.0]]"
  }
 },
 "pixelSizeX": 0.2500000000000041,
 "pixelSizeY": 0.25000000000001565,
 "bandCount": 3,
 "pixelType": "U8",
 "minPixelSize": 0,
 "maxPixelSize": 0,
 "copyrightText": "",
 "serviceDataType": "esriImageServiceDataTypeRGB",
 "minValues": [
  1,
  1,
  1
 ],
 "maxValues": [
  255,
  255,
  255
 ],
 "meanValues": [
  95.77961550495483,
  91.64439673083223,
  87.53569869448289
 ],
 "stdvValues": [
  55.48940988714495,
  40.265160470597074,
  36.31450770383641
 ],
 "objectIdField": "",
 "fields": [],
 "capabilities": "Mensuration,Image,Metadata",
 "defaultMosaicMethod": "Center",
 "allowedMosaicMethods": "",
 "sortField": "",
 "sortValue": null,
 "sortAscending": true,
 "mosaicOperator": "First",
 "defaultCompressionQuality": 75,
 "defaultResamplingMethod": "Bilinear",
 "maxImageHeight": 4100,
 "maxImageWidth": 15000,
 "allowRasterFunction": true,
 "rasterFunctionInfos": [
  {
   "name": "None",
   "description": "",
   "help": ""
  }
 ],
 "rasterTypeInfos": [
  {
   "name": "Raster Dataset",
   "description": "Supports all ArcGIS Raster Datasets",
   "help": ""
  }
 ],
 "mensurationCapabilities": "Basic",
 "hasHistograms": true,
 "hasColormap": false,
 "hasRasterAttributeTable": false,
 "minScale": 0,
 "maxScale": 0,
 "exportTilesAllowed": false,
 "hasMultidimensions": false,
 "supportsStatistics": false,
 "supportsAdvancedQueries": false,
 "editFieldsInfo": null,
 "ownershipBasedAccessControlForRasters": null,
 "allowComputeTiePoints": false,
 "useStandardizedQueries": true,
 "advancedQueryCapabilities": {
  "useStandardizedQueries": true,
  "supportsStatistics": false,
  "supportsOrderBy": false,
  "supportsDistinct": false,
  "supportsPagination": false
 },
 "spatialReference": {
  "wkt": "PROJCS[\"ETRS_1989_Portugal_TM06\",GEOGCS[\"GCS_ETRS_1989\",DATUM[\"D_ETRS_1989\",SPHEROID[\"GRS_1980\",6378137.0,298.257222101]],PRIMEM[\"Greenwich\",0.0],UNIT[\"Degree\",0.0174532925199433]],PROJECTION[\"Transverse_Mercator\"],PARAMETER[\"false_easting\",0.0],PARAMETER[\"false_northing\",0.0],PARAMETER[\"central_meridian\",-8.133108333333448],PARAMETER[\"scale_factor\",1.0],PARAMETER[\"latitude_of_origin\",39.66825833333243],UNIT[\"Meter\",1.0]]"
 }
}
